BEGIN:VCALENDAR
VERSION:2.0
PRODID:icalendar-ruby
CALSCALE:GREGORIAN
METHOD:PUBLISH
BEGIN:VEVENT
DTSTAMP:20260419T215008Z
UID:458-18696@firstchurchrf.org
DTSTART;VALUE=DATE:20260525
DTEND;VALUE=DATE:20260525
CLASS:PUBLIC
CREATED:20260414T160246
DESCRIPTION:
LAST-MODIFIED:20260414T160246
LOCATION:
SUMMARY:Church Office Closed
URL;VALUE=URI:https://firstchurchrf.org/events/church-office-closed--458/20
 26-05-25
END:VEVENT
END:VCALENDAR
