BEGIN:VCALENDAR
VERSION:2.0
PRODID:icalendar-ruby
CALSCALE:GREGORIAN
METHOD:PUBLISH
BEGIN:VEVENT
DTSTAMP:20260419T215500Z
UID:460-18704@firstchurchrf.org
DTSTART:20260502T160000Z
DTEND:20260502T180000Z
CLASS:PUBLIC
CREATED:20260414T161039
DESCRIPTION:
LAST-MODIFIED:20260414T161039
LOCATION:
SUMMARY:JoAnn Lentz Memorial Gathering
URL;VALUE=URI:https://firstchurchrf.org/events/joann-lentz-memorial-gatheri
 ng/2026-05-02
END:VEVENT
END:VCALENDAR
