BEGIN:VCALENDAR
VERSION:2.0
PRODID:icalendar-ruby
CALSCALE:GREGORIAN
METHOD:PUBLISH
BEGIN:VEVENT
DTSTAMP:20260423T170057Z
UID:465-18716@firstchurchrf.org
DTSTART:20260723T233000Z
DTEND:20260724T003000Z
CLASS:PUBLIC
CREATED:20260415T151529
DESCRIPTION:
LAST-MODIFIED:20260415T151529
LOCATION:
SUMMARY:NAMI Peer Support Group
URL;VALUE=URI:https://firstchurchrf.org/events/nami-peer-support-group/2026
 -07-23
END:VEVENT
END:VCALENDAR
