BEGIN:VCALENDAR
VERSION:2.0
PRODID:icalendar-ruby
CALSCALE:GREGORIAN
METHOD:PUBLISH
BEGIN:VEVENT
DTSTAMP:20260424T061911Z
UID:465-18724@firstchurchrf.org
DTSTART:20261211T003000Z
DTEND:20261211T013000Z
CLASS:PUBLIC
CREATED:20260415T151529
DESCRIPTION:
LAST-MODIFIED:20260415T151529
LOCATION:
SUMMARY:NAMI Peer Support Group
URL;VALUE=URI:https://firstchurchrf.org/events/nami-peer-support-group/2026
 -12-10
END:VEVENT
END:VCALENDAR
