BEGIN:VCALENDAR
VERSION:2.0
PRODID:icalendar-ruby
CALSCALE:GREGORIAN
METHOD:PUBLISH
BEGIN:VEVENT
DTSTAMP:20260419T215629Z
UID:461-18705@firstchurchrf.org
DTSTART:20260722T160000Z
DTEND:20260722T220000Z
CLASS:PUBLIC
CREATED:20260415T150721
DESCRIPTION:
LAST-MODIFIED:20260415T150721
LOCATION:
SUMMARY:Red Cross Blood Drive
URL;VALUE=URI:https://firstchurchrf.org/events/red-cross-blood-drive--461/2
 026-07-22
END:VEVENT
END:VCALENDAR
