BEGIN:VCALENDAR
VERSION:2.0
PRODID:icalendar-ruby
CALSCALE:GREGORIAN
METHOD:PUBLISH
BEGIN:VEVENT
DTSTAMP:20260419T214941Z
UID:462-18706@firstchurchrf.org
DTSTART:20260723T233000Z
DTEND:20260724T003000Z
CLASS:PUBLIC
CREATED:20260415T150813
DESCRIPTION:
LAST-MODIFIED:20260415T150813
LOCATION:
SUMMARY:VBS Teachers Meeting
URL;VALUE=URI:https://firstchurchrf.org/events/vbs-teachers-meeting--462/20
 26-07-23
END:VEVENT
END:VCALENDAR
